BEGIN:VCALENDAR
VERSION:2.0
PRODID:SchoolNow
CALSCALE:GREGORIAN
BEGIN:VEVENT
UID:ce375658-30a7-11ea-912a-0a32578b488b
DTSTAMP:20200120T014803Z
SUMMARY:Seabrook Public Hearing
LOCATION:Seabrook Town Hall
URL;VALUE=URI:https://www.sau21.nh.gov/calendar/2171364/seabrook-public-hea
 ring
DTSTART:20200120T230000Z
DTEND:20200121T003000Z
END:VEVENT
END:VCALENDAR
