BEGIN:VCALENDAR
VERSION:2.0
PRODID:SchoolNow
CALSCALE:GREGORIAN
BEGIN:VEVENT
UID:66ef314e-72ad-11ea-9eff-12154787b713
DTSTAMP:20200330T173927Z
SUMMARY:Community Update - Forum with the Superintendent
URL;VALUE=URI:https://www.sau21.nh.gov/calendar/2226671/community-update-fo
 rum-with-the-superintendent
DTSTART:20200404T140000Z
DTEND:20200404T150000Z
END:VEVENT
END:VCALENDAR
