BEGIN:VCALENDAR
VERSION:2.0
PRODID:SchoolNow
CALSCALE:GREGORIAN
BEGIN:VEVENT
UID:e50b6cfe-72ae-11ea-8d63-0ad805bfb8a5
DTSTAMP:20200425T155258Z
SUMMARY:SAU 21 Joint Board Meeting and Weekly Update
URL;VALUE=URI:https://www.sau21.nh.gov/calendar/2226675/sau-21-joint-board-
 weekly-update-clone-clone-clone
DTSTART:20200428T210000Z
DTEND:20200428T220000Z
ATTACH;FILENAME=jb-2020-04-28-agenda.pdf;FMTTYPE=application/pdf:https://ca
 mpussuite-storage.s3.amazonaws.com/prod/1558718/e7fa12dc-6862-11e9-88e9-0a
 2901a6873e/2088038/a778cc7a-870c-11ea-9164-0a0f1ed2e35d/file/jb-2020-04-28
 -agenda.pdf
END:VEVENT
END:VCALENDAR
