BEGIN:VCALENDAR
VERSION:2.0
PRODID:SchoolNow
CALSCALE:GREGORIAN
BEGIN:VEVENT
UID:db67d1ca-3030-11f0-8993-0affcf773f45
DTSTAMP:20260420T154508Z
SUMMARY:Early Release: All SAU21 Schools
URL;VALUE=URI:https://www.sau21.nh.gov/calendar/8129463/early-release-all-s
 au21-schools
DTSTART;VALUE=DATE:20251223
DTEND;VALUE=DATE:20251224
END:VEVENT
END:VCALENDAR
