BEGIN:VCALENDAR
VERSION:2.0
PRODID:SchoolNow
CALSCALE:GREGORIAN
BEGIN:VEVENT
UID:db67d4ae-3030-11f0-ace7-0affcf773f45
DTSTAMP:20260419T213008Z
SUMMARY:SAU21 Schools & Central Office CLOSE AT 12:00PM
URL;VALUE=URI:https://www.sau21.nh.gov/calendar/8129465/sau21-schools-centr
 al-office-close-at-12-00pm
DTSTART:20251224T170000Z
DTEND:20251224T210000Z
END:VEVENT
END:VCALENDAR
