BEGIN:VCALENDAR
VERSION:2.0
PRODID:SchoolNow
CALSCALE:GREGORIAN
BEGIN:VEVENT
UID:db67d62a-3030-11f0-924a-0affcf773f45
DTSTAMP:20260419T213008Z
SUMMARY:Christmas: CLOSED - All SAU21 Schools and Offices
URL;VALUE=URI:https://www.sau21.nh.gov/calendar/8129466/christmas-closed-al
 l-sau21-schools-and-offices
DTSTART;VALUE=DATE:20251225
DTEND;VALUE=DATE:20251226
END:VEVENT
END:VCALENDAR
