BEGIN:VCALENDAR
VERSION:2.0
PRODID:SchoolNow
CALSCALE:GREGORIAN
BEGIN:VEVENT
UID:db67dd46-3030-11f0-b4b2-0affcf773f45
DTSTAMP:20260419T213009Z
SUMMARY:NO SCHOOL: All SAU21 Schools - Holiday Break
URL;VALUE=URI:https://www.sau21.nh.gov/calendar/8129471/no-school-all-sau21
 -schools-holiday-break
DTSTART;VALUE=DATE:20251231
DTEND;VALUE=DATE:20260101
END:VEVENT
END:VCALENDAR
