BEGIN:VCALENDAR
VERSION:2.0
PRODID:SchoolNow
CALSCALE:GREGORIAN
BEGIN:VEVENT
UID:e73ebbfa-73fe-11f0-a3e2-0a58a9feac02
DTSTAMP:20260420T094008Z
SUMMARY:Seabrook School Board Meeting
LOCATION:Seabrook Middle School\, 256A Walton Rd\, Seabrook\, NH 03874\, US
 A
URL;VALUE=URI:https://www.sau21.nh.gov/calendar/8481871/seabrook-school-boa
 rd-meeting
DTSTART:20260113T213000Z
DTEND:20260113T233000Z
ATTACH;FILENAME=s-2026-01-13-agenda.pdf;FMTTYPE=application/pdf:https://dri
 ve.google.com/open?id=19hdgIZ1EwvIEJ-i15PWc-jcZqnx8gVQX
END:VEVENT
END:VCALENDAR
