BEGIN:VCALENDAR
VERSION:2.0
PRODID:SchoolNow
CALSCALE:GREGORIAN
BEGIN:VEVENT
UID:04dda886-e5a3-11f0-b8b3-0afff478c53f
DTSTAMP:20260420T094008Z
SUMMARY:North Hampton Budget Committee Public Hearing
LOCATION:North Hampton Town Hall\, 231 Atlantic Ave\, North Hampton\, NH 03
 862\, USA
URL;VALUE=URI:https://www.sau21.nh.gov/calendar/8827746/north-hampton-budge
 t-committee-public-hearing
DTSTART:20260120T233000Z
DTEND:20260121T001500Z
END:VEVENT
END:VCALENDAR
