BEGIN:VCALENDAR
VERSION:2.0
PRODID:SchoolNow
CALSCALE:GREGORIAN
BEGIN:VEVENT
UID:3f9c58a8-630f-11f0-a502-0e711ab82571
DTSTAMP:20260423T215037Z
SUMMARY:Holiday Vacation - No School
URL;VALUE=URI:https://www.sau21.nh.gov/las/calendar/8423316/holiday-vacatio
 n-no-school
DTSTART;VALUE=DATE:20251224
DTEND;VALUE=DATE:20251227
END:VEVENT
END:VCALENDAR
