BEGIN:VCALENDAR
VERSION:2.0
PRODID:SchoolNow
CALSCALE:GREGORIAN
BEGIN:VEVENT
UID:3f9c5998-630f-11f0-adcb-0e711ab82571
DTSTAMP:20260423T215037Z
SUMMARY:Holiday Vacation - No School
URL;VALUE=URI:https://www.sau21.nh.gov/las/calendar/8423317/holiday-vacatio
 n-no-school
DTSTART;VALUE=DATE:20251229
DTEND;VALUE=DATE:20260103
END:VEVENT
END:VCALENDAR
