BEGIN:VCALENDAR
VERSION:2.0
PRODID:SchoolNow
CALSCALE:GREGORIAN
BEGIN:VEVENT
UID:3f9c5a7e-630f-11f0-869f-0e711ab82571
DTSTAMP:20260423T215037Z
SUMMARY:Early Release Day
URL;VALUE=URI:https://www.sau21.nh.gov/las/calendar/8423318/early-release-d
 ay
DTSTART:20260116T163000Z
DTEND:20260116T173000Z
END:VEVENT
END:VCALENDAR
