BEGIN:VCALENDAR
VERSION:2.0
PRODID:SchoolNow
CALSCALE:GREGORIAN
BEGIN:VEVENT
UID:3f9c5b64-630f-11f0-80d5-0e711ab82571
DTSTAMP:20260423T215037Z
SUMMARY:Martin L. King Jr. / Civil Rights Day - No School
URL;VALUE=URI:https://www.sau21.nh.gov/las/calendar/8423319/martin-l-king-j
 r-civil-rights-day-no-school
DTSTART;VALUE=DATE:20260119
DTEND;VALUE=DATE:20260120
END:VEVENT
END:VCALENDAR
