BEGIN:VCALENDAR
VERSION:2.0
PRODID:SchoolNow
CALSCALE:GREGORIAN
BEGIN:VEVENT
UID:3f9c5c4a-630f-11f0-8d9d-0e711ab82571
DTSTAMP:20260423T154532Z
SUMMARY:Winter Break - No School
URL;VALUE=URI:https://www.sau21.nh.gov/las/calendar/8423320/winter-break-no
 -school
DTSTART;VALUE=DATE:20260223
DTEND;VALUE=DATE:20260228
END:VEVENT
END:VCALENDAR
