BEGIN:VCALENDAR
VERSION:2.0
PRODID:SchoolNow
CALSCALE:GREGORIAN
BEGIN:VEVENT
UID:3f9c5d30-630f-11f0-9f29-0e711ab82571
DTSTAMP:20260423T154532Z
SUMMARY:Election Day - No School
URL;VALUE=URI:https://www.sau21.nh.gov/las/calendar/8423321/election-day-no
 -school
DTSTART;VALUE=DATE:20260310
DTEND;VALUE=DATE:20260311
END:VEVENT
END:VCALENDAR
