BEGIN:VCALENDAR
VERSION:2.0
PRODID:SchoolNow
CALSCALE:GREGORIAN
BEGIN:VEVENT
UID:3f9c64ba-630f-11f0-af1d-0e711ab82571
DTSTAMP:20260423T094033Z
SUMMARY:Staff Professional Development Day - No School
URL;VALUE=URI:https://www.sau21.nh.gov/las/calendar/8423322/staff-professio
 nal-development-day-no-school
DTSTART;VALUE=DATE:20260401
DTEND;VALUE=DATE:20260402
END:VEVENT
END:VCALENDAR
