BEGIN:VCALENDAR
VERSION:2.0
PRODID:SchoolNow
CALSCALE:GREGORIAN
BEGIN:VEVENT
UID:3f9c669a-630f-11f0-a653-0e711ab82571
DTSTAMP:20260423T154532Z
SUMMARY:No School - Spring Break
URL;VALUE=URI:https://www.sau21.nh.gov/las/calendar/8423323/no-school-sprin
 g-break
DTSTART;VALUE=DATE:20260427
DTEND;VALUE=DATE:20260502
END:VEVENT
END:VCALENDAR
