BEGIN:VCALENDAR
VERSION:2.0
PRODID:SchoolNow
CALSCALE:GREGORIAN
BEGIN:VEVENT
UID:3f9c6870-630f-11f0-97a6-0e711ab82571
DTSTAMP:20260423T154532Z
SUMMARY:Memorial Day - No School
URL;VALUE=URI:https://www.sau21.nh.gov/las/calendar/8423325/memorial-day-no
 -school
DTSTART;VALUE=DATE:20260525
DTEND;VALUE=DATE:20260526
END:VEVENT
END:VCALENDAR
