BEGIN:VCALENDAR
VERSION:2.0
PRODID:SchoolNow
CALSCALE:GREGORIAN
BEGIN:VEVENT
UID:3f9c6956-630f-11f0-a655-0e711ab82571
DTSTAMP:20260423T215037Z
SUMMARY:Tentative Last Day for Students
URL;VALUE=URI:https://www.sau21.nh.gov/las/calendar/8423326/tentative-last-
 day-for-students
DTSTART;VALUE=DATE:20260612
DTEND;VALUE=DATE:20260613
END:VEVENT
END:VCALENDAR
