BEGIN:VCALENDAR
VERSION:2.0
PRODID:SchoolNow
CALSCALE:GREGORIAN
BEGIN:VEVENT
UID:c9f929ec-5f35-11ef-9792-0a58a9feac02
DTSTAMP:20240920T190512Z
SUMMARY:Mens Basketball
URL;VALUE=URI:https://www.sau21.nh.gov/las/facilities/calendar/6433109/mens
 -basketball
DTSTART:20251205T000000Z
DTEND:20251205T020000Z
END:VEVENT
END:VCALENDAR
