BEGIN:VCALENDAR
VERSION:2.0
PRODID:SchoolNow
CALSCALE:GREGORIAN
BEGIN:VEVENT
UID:c9f92faa-5f35-11ef-b65b-0a58a9feac02
DTSTAMP:20240920T190512Z
SUMMARY:Mens Basketball
URL;VALUE=URI:https://www.sau21.nh.gov/las/facilities/calendar/6433111/mens
 -basketball
DTSTART:20251219T000000Z
DTEND:20251219T020000Z
END:VEVENT
END:VCALENDAR
