BEGIN:VCALENDAR
VERSION:2.0
PRODID:SchoolNow
CALSCALE:GREGORIAN
BEGIN:VEVENT
UID:c9f9319e-5f35-11ef-9df8-0a58a9feac02
DTSTAMP:20240920T190512Z
SUMMARY:Mens Basketball
URL;VALUE=URI:https://www.sau21.nh.gov/las/facilities/calendar/6433113/mens
 -basketball
DTSTART:20260102T000000Z
DTEND:20260102T020000Z
END:VEVENT
END:VCALENDAR
