BEGIN:VCALENDAR
VERSION:2.0
PRODID:SchoolNow
CALSCALE:GREGORIAN
BEGIN:VEVENT
UID:c9f93284-5f35-11ef-8cc7-0a58a9feac02
DTSTAMP:20240920T190512Z
SUMMARY:Mens Basketball
URL;VALUE=URI:https://www.sau21.nh.gov/las/facilities/calendar/6433114/mens
 -basketball
DTSTART:20260109T000000Z
DTEND:20260109T020000Z
END:VEVENT
END:VCALENDAR
