BEGIN:VCALENDAR
VERSION:2.0
PRODID:SchoolNow
CALSCALE:GREGORIAN
BEGIN:VEVENT
UID:c9f9343c-5f35-11ef-884f-0a58a9feac02
DTSTAMP:20240920T190512Z
SUMMARY:Mens Basketball
URL;VALUE=URI:https://www.sau21.nh.gov/las/facilities/calendar/6433116/mens
 -basketball
DTSTART:20260123T000000Z
DTEND:20260123T020000Z
END:VEVENT
END:VCALENDAR
