BEGIN:VCALENDAR
VERSION:2.0
PRODID:SchoolNow
CALSCALE:GREGORIAN
BEGIN:VEVENT
UID:c9f935f4-5f35-11ef-8f5b-0a58a9feac02
DTSTAMP:20240920T190513Z
SUMMARY:Mens Basketball
URL;VALUE=URI:https://www.sau21.nh.gov/las/facilities/calendar/6433118/mens
 -basketball
DTSTART:20260206T000000Z
DTEND:20260206T020000Z
END:VEVENT
END:VCALENDAR
