BEGIN:VCALENDAR
VERSION:2.0
PRODID:SchoolNow
CALSCALE:GREGORIAN
BEGIN:VEVENT
UID:c9f936d0-5f35-11ef-a7c5-0a58a9feac02
DTSTAMP:20240920T190513Z
SUMMARY:Mens Basketball
URL;VALUE=URI:https://www.sau21.nh.gov/las/facilities/calendar/6433119/mens
 -basketball
DTSTART:20260213T000000Z
DTEND:20260213T020000Z
END:VEVENT
END:VCALENDAR
