BEGIN:VCALENDAR
VERSION:2.0
PRODID:SchoolNow
CALSCALE:GREGORIAN
BEGIN:VEVENT
UID:c9f93d06-5f35-11ef-b317-0a58a9feac02
DTSTAMP:20240920T190513Z
SUMMARY:Mens Basketball
URL;VALUE=URI:https://www.sau21.nh.gov/las/facilities/calendar/6433124/mens
 -basketball
DTSTART:20260319T230000Z
DTEND:20260320T010000Z
END:VEVENT
END:VCALENDAR
