BEGIN:VCALENDAR
VERSION:2.0
PRODID:SchoolNow
CALSCALE:GREGORIAN
BEGIN:VEVENT
UID:ca4eeeea-5f35-11ef-a54c-0a58a9feac02
DTSTAMP:20240920T190513Z
SUMMARY:Mens Basketball
URL;VALUE=URI:https://www.sau21.nh.gov/las/facilities/calendar/6433126/mens
 -basketball
DTSTART:20260402T230000Z
DTEND:20260403T010000Z
END:VEVENT
END:VCALENDAR
