BEGIN:VCALENDAR
VERSION:2.0
PRODID:SchoolNow
CALSCALE:GREGORIAN
BEGIN:VEVENT
UID:ca4f1b4a-5f35-11ef-9cf7-0a58a9feac02
DTSTAMP:20240920T190512Z
SUMMARY:Gym Not Available
URL;VALUE=URI:https://www.sau21.nh.gov/las/facilities/calendar/6433151/gym-
 not-available
DTSTART;VALUE=DATE:20251221
DTEND;VALUE=DATE:20251222
END:VEVENT
END:VCALENDAR
