BEGIN:VCALENDAR
VERSION:2.0
PRODID:SchoolNow
CALSCALE:GREGORIAN
BEGIN:VEVENT
UID:ca67c924-5f35-11ef-a429-0a58a9feac02
DTSTAMP:20240920T190512Z
SUMMARY:Gym Not Available
URL;VALUE=URI:https://www.sau21.nh.gov/las/facilities/calendar/6433161/gym-
 not-available
DTSTART;VALUE=DATE:20260301
DTEND;VALUE=DATE:20260302
END:VEVENT
END:VCALENDAR
