BEGIN:VCALENDAR
VERSION:2.0
PRODID:SchoolNow
CALSCALE:GREGORIAN
BEGIN:VEVENT
UID:ca67cb7c-5f35-11ef-8f14-0a58a9feac02
DTSTAMP:20240920T190512Z
SUMMARY:Gym Not Available
URL;VALUE=URI:https://www.sau21.nh.gov/las/facilities/calendar/6433163/gym-
 not-available
DTSTART;VALUE=DATE:20260315
DTEND;VALUE=DATE:20260316
END:VEVENT
END:VCALENDAR
