BEGIN:VCALENDAR
VERSION:2.0
PRODID:SchoolNow
CALSCALE:GREGORIAN
BEGIN:VEVENT
UID:ca67cc80-5f35-11ef-a62f-0a58a9feac02
DTSTAMP:20240920T190512Z
SUMMARY:Gym Not Available
URL;VALUE=URI:https://www.sau21.nh.gov/las/facilities/calendar/6433164/gym-
 not-available
DTSTART;VALUE=DATE:20260322
DTEND;VALUE=DATE:20260323
END:VEVENT
END:VCALENDAR
