BEGIN:VCALENDAR
VERSION:2.0
PRODID:SchoolNow
CALSCALE:GREGORIAN
BEGIN:VEVENT
UID:ca827ada-5f35-11ef-95ed-0a58a9feac02
DTSTAMP:20240920T190512Z
SUMMARY:Gym Not Avail
URL;VALUE=URI:https://www.sau21.nh.gov/las/facilities/calendar/6433202/gym-
 not-avail
DTSTART;VALUE=DATE:20260306
DTEND;VALUE=DATE:20260307
END:VEVENT
END:VCALENDAR
