BEGIN:VCALENDAR
VERSION:2.0
PRODID:SchoolNow
CALSCALE:GREGORIAN
BEGIN:VEVENT
UID:ca827bc0-5f35-11ef-9a17-0a58a9feac02
DTSTAMP:20240920T190512Z
SUMMARY:Gym Not Avail
URL;VALUE=URI:https://www.sau21.nh.gov/las/facilities/calendar/6433203/gym-
 not-avail
DTSTART;VALUE=DATE:20260313
DTEND;VALUE=DATE:20260314
END:VEVENT
END:VCALENDAR
