BEGIN:VCALENDAR
VERSION:2.0
PRODID:SchoolNow
CALSCALE:GREGORIAN
BEGIN:VEVENT
UID:ca827fd0-5f35-11ef-a353-0a58a9feac02
DTSTAMP:20240920T190512Z
SUMMARY:Gym Not Avail
URL;VALUE=URI:https://www.sau21.nh.gov/las/facilities/calendar/6433206/gym-
 not-avail
DTSTART;VALUE=DATE:20260403
DTEND;VALUE=DATE:20260404
END:VEVENT
END:VCALENDAR
