BEGIN:VCALENDAR
VERSION:2.0
PRODID:SchoolNow
CALSCALE:GREGORIAN
BEGIN:VEVENT
UID:ca828a70-5f35-11ef-a843-0a58a9feac02
DTSTAMP:20240920T190512Z
SUMMARY:Cafe Not Available
URL;VALUE=URI:https://www.sau21.nh.gov/las/facilities/calendar/6433213/cafe
 -not-available
DTSTART:20251209T200000Z
DTEND:20251210T030000Z
END:VEVENT
END:VCALENDAR
