BEGIN:VCALENDAR
VERSION:2.0
PRODID:SchoolNow
CALSCALE:GREGORIAN
BEGIN:VEVENT
UID:ca828b4c-5f35-11ef-8d05-0a58a9feac02
DTSTAMP:20240920T190512Z
SUMMARY:Cafe Not Available
URL;VALUE=URI:https://www.sau21.nh.gov/las/facilities/calendar/6433214/cafe
 -not-available
DTSTART:20260113T200000Z
DTEND:20260114T030000Z
END:VEVENT
END:VCALENDAR
