BEGIN:VCALENDAR
VERSION:2.0
PRODID:SchoolNow
CALSCALE:GREGORIAN
BEGIN:VEVENT
UID:ca828d0e-5f35-11ef-bf06-0a58a9feac02
DTSTAMP:20240920T190512Z
SUMMARY:Cafe Not Available
URL;VALUE=URI:https://www.sau21.nh.gov/las/facilities/calendar/6433216/cafe
 -not-available
DTSTART:20260310T190000Z
DTEND:20260311T020000Z
END:VEVENT
END:VCALENDAR
