BEGIN:VCALENDAR
VERSION:2.0
PRODID:SchoolNow
CALSCALE:GREGORIAN
BEGIN:VEVENT
UID:ca829376-5f35-11ef-942f-0a58a9feac02
DTSTAMP:20240920T190512Z
SUMMARY:Library Not Available
URL;VALUE=URI:https://www.sau21.nh.gov/las/facilities/calendar/6433222/libr
 ary-not-available
DTSTART:20251203T000000Z
DTEND:20251203T040000Z
END:VEVENT
END:VCALENDAR
