BEGIN:VCALENDAR
VERSION:2.0
PRODID:SchoolNow
CALSCALE:GREGORIAN
BEGIN:VEVENT
UID:ca829448-5f35-11ef-ae3b-0a58a9feac02
DTSTAMP:20240920T190512Z
SUMMARY:Library Not Available
URL;VALUE=URI:https://www.sau21.nh.gov/las/facilities/calendar/6433223/libr
 ary-not-available
DTSTART:20260107T000000Z
DTEND:20260107T040000Z
END:VEVENT
END:VCALENDAR
