BEGIN:VCALENDAR
VERSION:2.0
PRODID:SchoolNow
CALSCALE:GREGORIAN
BEGIN:VEVENT
UID:ca829a06-5f35-11ef-87e4-0a58a9feac02
DTSTAMP:20240920T190512Z
SUMMARY:Library Not Available
URL;VALUE=URI:https://www.sau21.nh.gov/las/facilities/calendar/6433224/libr
 ary-not-available
DTSTART:20260204T000000Z
DTEND:20260204T040000Z
END:VEVENT
END:VCALENDAR
