BEGIN:VCALENDAR
VERSION:2.0
PRODID:SchoolNow
CALSCALE:GREGORIAN
BEGIN:VEVENT
UID:ca829b8c-5f35-11ef-935a-0a58a9feac02
DTSTAMP:20240920T190512Z
SUMMARY:Library Not Available
URL;VALUE=URI:https://www.sau21.nh.gov/las/facilities/calendar/6433225/libr
 ary-not-available
DTSTART:20260304T000000Z
DTEND:20260304T040000Z
END:VEVENT
END:VCALENDAR
