BEGIN:VCALENDAR
VERSION:2.0
PRODID:SchoolNow
CALSCALE:GREGORIAN
BEGIN:VEVENT
UID:ca829c86-5f35-11ef-965e-0a58a9feac02
DTSTAMP:20240920T190512Z
SUMMARY:Library Not Available
URL;VALUE=URI:https://www.sau21.nh.gov/las/facilities/calendar/6433226/libr
 ary-not-available
DTSTART:20260407T230000Z
DTEND:20260408T030000Z
END:VEVENT
END:VCALENDAR
