BEGIN:VCALENDAR
VERSION:2.0
PRODID:SchoolNow
CALSCALE:GREGORIAN
BEGIN:VEVENT
UID:439a1080-7783-11ef-8341-0a58a9feac02
DTSTAMP:20240920T190513Z
SUMMARY:Gym Not Available
URL;VALUE=URI:https://www.sau21.nh.gov/las/facilities/calendar/6651859/gym-
 not-available
DTSTART;VALUE=DATE:20260510
DTEND;VALUE=DATE:20260511
END:VEVENT
END:VCALENDAR
