BEGIN:VCALENDAR
VERSION:2.0
PRODID:SchoolNow
CALSCALE:GREGORIAN
BEGIN:VEVENT
UID:439a1184-7783-11ef-b144-0a58a9feac02
DTSTAMP:20240920T190513Z
SUMMARY:Gym Not Available
URL;VALUE=URI:https://www.sau21.nh.gov/las/facilities/calendar/6651860/gym-
 not-available
DTSTART;VALUE=DATE:20260517
DTEND;VALUE=DATE:20260518
END:VEVENT
END:VCALENDAR
