BEGIN:VCALENDAR
VERSION:2.0
PRODID:SchoolNow
CALSCALE:GREGORIAN
BEGIN:VEVENT
UID:43a308a2-7783-11ef-84c9-0a58a9feac02
DTSTAMP:20240920T190513Z
SUMMARY:Gym Not Avail
URL;VALUE=URI:https://www.sau21.nh.gov/las/facilities/calendar/6651863/gym-
 not-avail
DTSTART;VALUE=DATE:20260508
DTEND;VALUE=DATE:20260509
END:VEVENT
END:VCALENDAR
