BEGIN:VCALENDAR
VERSION:2.0
PRODID:SchoolNow
CALSCALE:GREGORIAN
BEGIN:VEVENT
UID:43a30d66-7783-11ef-872f-0a58a9feac02
DTSTAMP:20240920T190513Z
SUMMARY:Cafe Not Available
URL;VALUE=URI:https://www.sau21.nh.gov/las/facilities/calendar/6651865/cafe
 -not-available
DTSTART:20260512T190000Z
DTEND:20260513T020000Z
END:VEVENT
END:VCALENDAR
