BEGIN:VCALENDAR
VERSION:2.0
PRODID:SchoolNow
CALSCALE:GREGORIAN
BEGIN:VEVENT
UID:43a3104a-7783-11ef-9906-0a58a9feac02
DTSTAMP:20240920T190513Z
SUMMARY:Library Not Available
URL;VALUE=URI:https://www.sau21.nh.gov/las/facilities/calendar/6651866/libr
 ary-not-available
DTSTART:20260505T230000Z
DTEND:20260506T030000Z
END:VEVENT
END:VCALENDAR
