BEGIN:VCALENDAR
VERSION:2.0
PRODID:SchoolNow
CALSCALE:GREGORIAN
BEGIN:VEVENT
UID:43aeb418-7783-11ef-b17a-0a58a9feac02
DTSTAMP:20240920T190513Z
SUMMARY:Mens Basketball
URL;VALUE=URI:https://www.sau21.nh.gov/las/facilities/calendar/6651867/mens
 -basketball
DTSTART:20260423T230000Z
DTEND:20260424T010000Z
END:VEVENT
END:VCALENDAR
