BEGIN:VCALENDAR
VERSION:2.0
PRODID:SchoolNow
CALSCALE:GREGORIAN
BEGIN:VEVENT
UID:43aebd78-7783-11ef-ab2d-0a58a9feac02
DTSTAMP:20240920T190513Z
SUMMARY:Mens Basketball
URL;VALUE=URI:https://www.sau21.nh.gov/las/facilities/calendar/6651870/mens
 -basketball
DTSTART:20260514T230000Z
DTEND:20260515T010000Z
END:VEVENT
END:VCALENDAR
